BEGIN:VCALENDAR
VERSION:2.0
METHOD:PUBLISH
PRODID:https://campus.havelhoehe.de
BEGIN:VEVENT
UID:177674851512937@https://campus.havelhoehe.de
DTSTART:20211017T130000Z
DURATION:PT1H
ORGANIZER:CN=Campus Havelhöhe
LOCATION:Haus 10 ( Station 3, R. 2013), Campus Havelhöhe, Kladower Damm 221,14089 Berlin
SUMMARY:Onkologische Gesundheitsschulung, Medizinische Therapien beim Lungenkarzinom- was ist neu?
DESCRIPTION:, https://gla-havelhoehe.de/
END:VEVENT
END:VCALENDAR