BEGIN:VCALENDAR
VERSION:2.0
METHOD:PUBLISH
PRODID:https://campus.havelhoehe.de
BEGIN:VEVENT
UID:177673276720525@https://campus.havelhoehe.de
DTSTART:20211219T100000Z
DURATION:PT1H
ORGANIZER:CN=Campus Havelhöhe
LOCATION:Saal Haus 28, Campus Havelhöhe - Kladower Damm 221,14089 Berlin
SUMMARY:Winter-Weihnachts-Stücke der Klassik
DESCRIPTION:Mari Nakamura (Klavier)Der Eintritt ist kostenfrei. Die Einhaltung der 2-G Regel (Genesen und Geimpft) ist erforderlich. Der Saal ist mit Maske zu betreten, diese kann am Platz sitzend abgelegt werden.
END:VEVENT
END:VCALENDAR