BEGIN:VCALENDAR
VERSION:2.0
METHOD:PUBLISH
PRODID:https://campus.havelhoehe.de
BEGIN:VEVENT
UID:177674094840774@https://campus.havelhoehe.de
DTSTART:20211121T100000Z
DURATION:PT1H
ORGANIZER:CN=Campus Havelhöhe
LOCATION:Akademie Haus 24, Campus Havelhöhe - Kladower Damm 221,14089 Berlin
SUMMARY:Atemzeit, Lieder und Lyrik
DESCRIPTION:Lieder und Lyrik von T. Jobim, C. Buarque, M. de Falla, F. Schubert, J. Dowland, V. de Moraes, E. Lasker-Schüler, F. Nietzsche, A. Piazolla, K. Weill und B. Brecht , Ensemble Caminhos Cruzados: Anna-Christina Gorbatschova (Gesang) + Claudia Bathke (Lesung) + Fabian Kalbitzer (Gitarre), Die Einhaltung der 2-G Regel (Genesen und Geimpft) ist erforderlich.
END:VEVENT
END:VCALENDAR