BEGIN:VCALENDAR
VERSION:2.0
METHOD:PUBLISH
PRODID:https://campus.havelhoehe.de
BEGIN:VEVENT
UID:177670277087973@https://campus.havelhoehe.de
DTSTART:20220408T170000Z
DURATION:PT1H
ORGANIZER:CN=Campus Havelhöhe
LOCATION:Gesundheitsforum, Campus Havelhöhe, Kladower Damm 221, 14089 Berlin
SUMMARY:Der Schmerz und wie wir ihm begegnen können
DESCRIPTION:Dr. Nina Klinger, Fachärztin für Allgemeinmedizin, Psychotherapie, Anthroposophische Medizin (GAÄD), Oberärztin und Leiterin Integrative Schmerz- und Suchtmedizin, GKH, Einlass erfolgt mit Nachweis eines aktuellen negativen Schnelltests (max. 24 Stunden alt), auch wenn man genesen oder geimpft ist. , Das Kladow Fitness Center hat von 10 – 18 Uhr auf und macht kostenlose Bürgerschnelltests., https://campus.havelhoehe.de/institutionen/gesundheitsforum-havelhoehe/
END:VEVENT
END:VCALENDAR