BEGIN:VCALENDAR
VERSION:2.0
METHOD:PUBLISH
PRODID:https://campus.havelhoehe.de
BEGIN:VEVENT
UID:177682414752672@https://campus.havelhoehe.de
DTSTART:20200920T090000Z
DURATION:PT1H
ORGANIZER:CN=Campus Havelhöhe
LOCATION:Gemeinschaftskrankenhaus Havelhöhe, Saal Haus 28, Kladower Damm 221, 14089 Berlin
SUMMARY:BINAS NACHT-BAND GIBT SICH DIE EHRE
DESCRIPTION:Ein „beswingter „ Vormittag mit Herz Jazz-Standards, alte Schlager und Pop Balladen Sabine Schalla, Gesang, Wolfgang Köhler, Piano Bitte beachten: Die Teilnehmer*innenzahl ist auf 60 begrenzt! Eintritt frei; über Spenden zur Unterstützung der Kulturarbeit freuen wir uns
END:VEVENT
END:VCALENDAR