BEGIN:VCALENDAR
VERSION:2.0
METHOD:PUBLISH
PRODID:https://campus.havelhoehe.de
BEGIN:VEVENT
UID:177682355697011@https://campus.havelhoehe.de
DTSTART:20200923T170000Z
DURATION:PT1H
ORGANIZER:CN=Campus Havelhöhe
LOCATION:Familienforum Havelhöhe
SUMMARY:Kinderrechte – in Familie, in Schule und in Kita
DESCRIPTION:Kinderrechte sind geltendes Recht in Deutschland und doch werden sie an vielen Stellen noch nicht wirkungsvoll umgesetzt. Was können und sollten wir Erwachsenen wissen und tun, um Kindern zu ihren Rechten zu verhelfen? Anmeldeschluss: 18.09.2020 Beitrag: 8,– €, https://www.familienforum-havelhoehe.de/programm/event/232-kinderrechte-in-familie-in-schule-und-in-kita.html
END:VEVENT
END:VCALENDAR