BEGIN:VCALENDAR
VERSION:2.0
METHOD:PUBLISH
PRODID:https://campus.havelhoehe.de
BEGIN:VEVENT
UID:177682384497910@https://campus.havelhoehe.de
DTSTART:20200925T170000Z
DURATION:PT1H
ORGANIZER:CN=Campus Havelhöhe
LOCATION:Gesundheitsforum Havelhöhe Vortrag findet im Saal des Familienforums statt
SUMMARY:Den eigenen Weg erkennen!
DESCRIPTION:Wie man mit Biografiearbeit die Selbstheilungskräfte stärken kann. Gemma Priess, Biografieberaterin,Berlin Gesundheitsforum
END:VEVENT
END:VCALENDAR