BEGIN:VCALENDAR
VERSION:2.0
METHOD:PUBLISH
PRODID:https://campus.havelhoehe.de
BEGIN:VEVENT
UID:177682349531232@https://campus.havelhoehe.de
DTSTART:20200923T070000Z
DURATION:PT1H
ORGANIZER:CN=Campus Havelhöhe
LOCATION:Anthroposophische Akademie Havelhöhe Das Seminar findet im Saal des Familienforums statt
SUMMARY:Schnupperwoche Anthroposophische Medizin, Therapie und Pflege
DESCRIPTION:Während der einwöchigen Schnupperveranstaltung bietet sich die Gelegenheit, das weit gefächerte Spektrum der Anthroposophischen Medizin, Therapie und Pflege zu entdecken, bisherige Kenntnisse zu vertiefen und Einblicke in die Arbeit des Gemeinschaftskrankenhauses Havelhöhe zu gewinnen., https://www.akademie-havelhoehe.de/angebot-details/schnupperwoche-anthroposophische-medizin-therapie-und-pflege-kopie.html
END:VEVENT
END:VCALENDAR