BEGIN:VCALENDAR
VERSION:2.0
METHOD:PUBLISH
PRODID:https://campus.havelhoehe.de
BEGIN:VEVENT
UID:177681733218129@https://campus.havelhoehe.de
DTSTART:20201002T170000Z
DURATION:PT1H
ORGANIZER:CN=Campus Havelhöhe
LOCATION:Gesundheitsforum Havelhöhe, Haus 28
SUMMARY:Verschiedene Brustkrebsarten und neue Immuntherapien beim Mammakarzinom
DESCRIPTION:Dr. Jessica Groß, Leiterin des Brustkrebszentrums
END:VEVENT
END:VCALENDAR