BEGIN:VCALENDAR
VERSION:2.0
METHOD:PUBLISH
PRODID:https://campus.havelhoehe.de
BEGIN:VEVENT
UID:177681728550614@https://campus.havelhoehe.de
DTSTART:20201003T080000Z
DURATION:PT1H
ORGANIZER:CN=Campus Havelhöhe
LOCATION:Familienforum Havelhöhe
SUMMARY:Kompaktkurs Multimodales familienzentriertes Stressmanagement – Modul II
DESCRIPTION:In diesem Workshop (3.-4.10.2020) geht es zum einen darum Eltern zu befähigen, ihre eigenen Stressoren zu minimieren, zum anderen ein Bewusstsein dafür zu schaffen, inwiefern und wie „leicht“ bereits Kinder Stress durch Überforderung erleben. Tag 1 Beitrag: 140,– €, https://www.familienforum-havelhoehe.de/programm/event/233-kompaktkurs-multimodales-familienzentriertes-stressmanagement-modul-ii.html
END:VEVENT
END:VCALENDAR