BEGIN:VCALENDAR
VERSION:2.0
METHOD:PUBLISH
PRODID:https://campus.havelhoehe.de
BEGIN:VEVENT
UID:177682414743769@https://campus.havelhoehe.de
DTSTART:20200927T090000Z
DURATION:PT1H
ORGANIZER:CN=Campus Havelhöhe
LOCATION:Gemeinschaftskrankenhaus Havelhöhe, Saal Haus 28 Bitte beachten: Die Teilnehmer*innenzahl ist auf 60 begrenzt!
SUMMARY:LEONARDO DA VINCI Eine Hommage zum 501. Todestag
DESCRIPTION:Leonardo da Vinci (1452-1519) war ein Genie in fast allen Bereichen: als Schöpfer der unsterblichen „Mona Lisa“, als Bildhauer, Architekt, Anatom, Mechaniker und Naturphilosoph. Genießen Sie mit Dr. Bettina Gößling einige Höhepunkte seines unermesslichen Schaffens.
END:VEVENT
END:VCALENDAR