BEGIN:VCALENDAR
VERSION:2.0
METHOD:PUBLISH
PRODID:https://campus.havelhoehe.de
BEGIN:VEVENT
UID:177681728662324@https://campus.havelhoehe.de
DTSTART:20201004T090000Z
DURATION:PT1H
ORGANIZER:CN=Campus Havelhöhe
LOCATION:Gemeinschaftskrankenhaus Havelhöhe, Saal Haus 28
SUMMARY:ICH KANNTE BEETHOVEN Lehrer und Schüler – Ludwig van Beethoven und Ferdinand Ries
DESCRIPTION:Duo Orpheo: Susanne Kowal (Klavier und Moderation) und Kammervirtuose Antoine Saad (Violine und Viola) Bitte beachten: Die Teilnehmer*innenzahl ist auf 60 begrenzt! Eintritt frei; über Spenden zur Unterstützung der Kulturarbeit freuen wir uns
END:VEVENT
END:VCALENDAR