BEGIN:VCALENDAR
VERSION:2.0
METHOD:PUBLISH
PRODID:https://campus.havelhoehe.de
BEGIN:VEVENT
UID:177681733220189@https://campus.havelhoehe.de
DTSTART:20201007T080000Z
DURATION:PT1H
ORGANIZER:CN=Campus Havelhöhe
LOCATION:Familienforum Havelhöhe
SUMMARY:Singen in der Quintenstimmung – wohltuende Harmonien für Kinder
DESCRIPTION:Jeden ersten Mittwoch im Monat treffen wir uns, um die wohltuenden pentatonischen Lieder anzustimmen und zu summen. Wer mag, darf gern seine Kinderharfe, Flöte oder sein Glockenspiel mitbringen! Kinder sind selbstverständlich mit eingeladen! Beitrag: jeweils 5,– € pro Erwachsener, https://www.familienforum-havelhoehe.de/programm/event/234-singen-in-der-quintenstimmung-wohltuende-harmonien-fuer-kinder.html
END:VEVENT
END:VCALENDAR