BEGIN:VCALENDAR
VERSION:2.0
METHOD:PUBLISH
PRODID:https://campus.havelhoehe.de
BEGIN:VEVENT
UID:177681733232373@https://campus.havelhoehe.de
DTSTART:20201009T170000Z
DURATION:PT1H
ORGANIZER:CN=Campus Havelhöhe
LOCATION:Gesundheitsforum Havelhöhe, Haus 28
SUMMARY:Stress und die Auswirkungen auf den Darm – erkennen, verstehen und behandeln aus der Sicht der Anthroposophischen Medizin
DESCRIPTION:Dr. Markus Wispler, Stellvertretender Leiter der Gastroenterologie
END:VEVENT
END:VCALENDAR