BEGIN:VCALENDAR
VERSION:2.0
METHOD:PUBLISH
PRODID:https://campus.havelhoehe.de
BEGIN:VEVENT
UID:177681008733399@https://campus.havelhoehe.de
DTSTART:20201106T180000Z
DURATION:PT1H
ORGANIZER:CN=Campus Havelhöhe
LOCATION:Gemeinschaftskrankenhaus Havelhöhe, Saal Haus 28, Kladower Damm 221, 14089 Berlin
SUMMARY:++FÄLLT PANDEMIEBEDINGT LEIDER AUS++ Übergewicht, Bluthochdruck, Diabetis, Stoffwechselstörung- was kann ich für mich tun?
DESCRIPTION:Dr. Roland Zerm, Leitender Oberarzt Geriatrie und Diabetologie, Tanja Radzuweit, Diplom Oecotrophologin Bitte beachten: Wegen der begrenzten Teilnehmerzahl ist eine Anmeldung über Mail: gesundheitsforum@bg-havelhoehe.de erforderlich!
END:VEVENT
END:VCALENDAR