BEGIN:VCALENDAR
VERSION:2.0
METHOD:PUBLISH
PRODID:https://campus.havelhoehe.de
BEGIN:VEVENT
UID:177681010386014@https://campus.havelhoehe.de
DTSTART:20201113T180000Z
DURATION:PT1H
ORGANIZER:CN=Campus Havelhöhe
LOCATION:Gesundheitsforum Havelhöhe, Gemeinschaftskrankenhaus Havelhöhe, Saal Haus 28, Kladower Damm 221, 14089 Berlin
SUMMARY:++FÄLLT PANDEMIEBEDINGT LEIDER AUS++ Ambulante Palliativversorgung- was ist möglich?
DESCRIPTION:Dr. Achim Rieger, Facharzt für Allgemeinmedizin und Palliativmedizin (SAPV) Bitte beachten: Wegen der begrenzten Teilnehmerzahl ist eine Anmeldung über Mail: gesundheitsforum@bg-havelhoehe.de erforderlich!
END:VEVENT
END:VCALENDAR