BEGIN:VCALENDAR
VERSION:2.0
METHOD:PUBLISH
PRODID:https://campus.havelhoehe.de
BEGIN:VEVENT
UID:177681010334174@https://campus.havelhoehe.de
DTSTART:20201115T100000Z
DURATION:PT1H
ORGANIZER:CN=Campus Havelhöhe
LOCATION:Gemeinschaftskrankenhaus Havelhöhe, Saal Haus 28, Kladower Damm 221, 14089 Berlin
SUMMARY:++FÄLLT PANDEMIEBEDINGT LEIDER AUS++ DESDE EL ALMA - AUS DER SEELE
DESCRIPTION:Das Duo acuerdo spielt Tango und mehr... Anja Dolak (Knopfakkordeon) und Bernhard Hariolf Suhm (Violoncello)
END:VEVENT
END:VCALENDAR