BEGIN:VCALENDAR
VERSION:2.0
METHOD:PUBLISH
PRODID:https://campus.havelhoehe.de
BEGIN:VEVENT
UID:177681008757275@https://campus.havelhoehe.de
DTSTART:20201120T180000Z
DURATION:PT1H
ORGANIZER:CN=Campus Havelhöhe
LOCATION:Gesundheitsforum Havelhöhe, Gemeinschaftskrankenhaus Havelhöhe, Saal Haus 28, Kladower Damm 221, 14089 Berlin
SUMMARY:++FÄLLT PANDEMIEBEDINGT LEIDER AUS++ Die Schatzkiste der heilsamen Wickel und Auflagen. Von Arnika bis Zwiebeln.
DESCRIPTION:Doris Rapp, Gesundheits- und Krankenpflegerin, Ausbilderin und Prüferin für Rhytmische Einreibung
END:VEVENT
END:VCALENDAR