BEGIN:VCALENDAR
VERSION:2.0
METHOD:PUBLISH
PRODID:https://campus.havelhoehe.de
BEGIN:VEVENT
UID:177681010344975@https://campus.havelhoehe.de
DTSTART:20201127T180000Z
DURATION:PT1H
ORGANIZER:CN=Campus Havelhöhe
LOCATION:Gesundheitsforum Havelhöhe, Gemeinschaftskrankenhaus Havelhöhe, Saal Haus 28, Kladower Damm 221, 14089 Berlin
SUMMARY:++FÄLLT PANDEMIEBEDINGT LEIDER AUS++ Verwandeln? Von der Angst zur seelischen Wärme
DESCRIPTION:Dr. Mechtild Bischof, Gynäkologin und Psychotherapeutin
END:VEVENT
END:VCALENDAR