BEGIN:VCALENDAR
VERSION:2.0
METHOD:PUBLISH
PRODID:https://campus.havelhoehe.de
BEGIN:VEVENT
UID:177681008750095@https://campus.havelhoehe.de
DTSTART:20201129T100000Z
DURATION:PT1H
ORGANIZER:CN=Campus Havelhöhe
LOCATION:Gemeinschaftskrankenhaus Havelhöhe, Saal Haus 28, Kladower Damm 221, 14089 Berlin
SUMMARY:++FÄLLT PANDEMIEBEDINGT LEIDER AUS++ MEIN KLEINES VIS-À-VIS
DESCRIPTION:Schlager der 1920er und 30er Jahre, die Frühlingsgefühle wecken Die wilden Witwer: Robert Hebenstreit (Gesang) und Christian Zacker (Klavier)
END:VEVENT
END:VCALENDAR