BEGIN:VCALENDAR
VERSION:2.0
METHOD:PUBLISH
PRODID:https://campus.havelhoehe.de
BEGIN:VEVENT
UID:177680153086053@https://campus.havelhoehe.de
DTSTART:20201211T180000Z
DURATION:PT1H
ORGANIZER:CN=Campus Havelhöhe
LOCATION:Gesundheitsforum Havelhöhe, Gemeinschaftskrankenhaus Havelhöhe, Saal Haus 28, Kladower Damm 221, 14089 Berlin
SUMMARY:Herzstimmen. Liebe spüren - das eigene Lebenslicht berühren
DESCRIPTION:Dr.phil Heidrun Adriana Bomke, Poetin, Lebensreisebegleiterin; Laura Pham, Pianistin
END:VEVENT
END:VCALENDAR