BEGIN:VCALENDAR
VERSION:2.0
METHOD:PUBLISH
PRODID:https://campus.havelhoehe.de
BEGIN:VEVENT
UID:177670111943939@https://campus.havelhoehe.de
DTSTART:20210829T090000Z
DURATION:PT1H
ORGANIZER:CN=Campus Havelhöhe
LOCATION:Campus Havelhöhe, Kladower Damm 221, 14089 Berlin, Saal Haus 28
SUMMARY:Duo Acuerdo – Desde el alma - Tango, Musette, Klezmer, Bernhard Hariolf Suhm – Violoncello Anja Dolak - Knopfakkordeon
DESCRIPTION:Die Einhaltung der 3 G-Regel (getestet, genesen, geimpft) ist erforderlich.
END:VEVENT
END:VCALENDAR