BEGIN:VCALENDAR
VERSION:2.0
METHOD:PUBLISH
PRODID:https://campus.havelhoehe.de
BEGIN:VEVENT
UID:177670271736491@https://campus.havelhoehe.de
DTSTART:20220401T170000Z
DURATION:PT1H
ORGANIZER:CN=Campus Havelhöhe
LOCATION:Campus Havelhöhe, Kladower Damm 221, 14089 Berlin, Saal Haus 28
SUMMARY:Unsere Zähne - Zahnfehlstellungen, Geisteswissenschaftliche Grundlagen der Zahnfehlstellungen Referent: Sebnem Philippsen, Zahnärztin, Berlin.
DESCRIPTION:Einlass erfolgt mit Nachweis eines aktuellen negativen Schnelltests (max. 24 Stunden alt), auch wenn man genesen oder geimpft ist. Am Platz sind FFP2-Masken zu tragen. Wir halten uns an die am Veranstaltungstag gültige SARS-CoV-2-Infektionsschutzmaßnehmenverordnung. , Das Kladow Fitness Center hat von 10 – 18 Uhr auf und macht kostenlose Bürgerschnelltests.
END:VEVENT
END:VCALENDAR