BEGIN:VCALENDAR
VERSION:2.0
METHOD:PUBLISH
PRODID:https://campus.havelhoehe.de
BEGIN:VEVENT
UID:177677186711853@https://campus.havelhoehe.de
DTSTART:20210620T090000Z
DURATION:PT1H
ORGANIZER:CN=Campus Havelhöhe
LOCATION:Campus Havelhöhe, Saal Haus 28 (neben der Cafeteria) Kladower Damm 221, 14089 Berlin-Kladow
SUMMARY:Klaviermatinee Markus Wenz (Klavier)
DESCRIPTION:Werke von Ludwig van Beethoven (1770 – 1827) Eintritt frei Mitzubringen ist bitte ein Corona-Schnelltest-Ergebnis (oder Impfpass), das nicht älter als 24 Stunden ist.
END:VEVENT
END:VCALENDAR