BEGIN:VCALENDAR
VERSION:2.0
METHOD:PUBLISH
PRODID:https://campus.havelhoehe.de
BEGIN:VEVENT
UID:177677185549815@https://campus.havelhoehe.de
DTSTART:20210627T090000Z
DURATION:PT1H
ORGANIZER:CN=Campus Havelhöhe
LOCATION:Campus Havelhöhe, Saal Haus 28 (neben der Cafeteria) Kladower Damm 221, 14089 Berlin-Kladow
SUMMARY:Trio Four - Jazz & (instrumentale) Chansons
DESCRIPTION:Lutz Wolf - Trompete/Flügelhorn/Gesang Oliver Fach - Gitarre/Gesang Tobias Rösch - Kontrabass/Gesang Eintritt frei Mitzubringen ist bitte ein Corona-Schnelltest-Ergebnis (oder Impfpass), das nicht älter als 24 Stunden ist.
END:VEVENT
END:VCALENDAR