BEGIN:VCALENDAR
VERSION:2.0
METHOD:PUBLISH
PRODID:https://campus.havelhoehe.de
BEGIN:VEVENT
UID:177677186748906@https://campus.havelhoehe.de
DTSTART:20210618T170000Z
DURATION:PT1H
ORGANIZER:CN=Campus Havelhöhe
LOCATION:
SUMMARY:Welche Bedeutung hat die Pflege von Rhythmen für Gesundheit, Seele und Geist?
DESCRIPTION:Dr. Matthias Girke, Leiter der Medizinischen Sektion, Dornach, https://havelhoehe-de.zoom.us/j/91404941938  
END:VEVENT
END:VCALENDAR