BEGIN:VCALENDAR
VERSION:2.0
METHOD:PUBLISH
PRODID:https://campus.havelhoehe.de
BEGIN:VEVENT
UID:177677189734416@https://campus.havelhoehe.de
DTSTART:20210622T160000Z
DURATION:PT1H
ORGANIZER:CN=Campus Havelhöhe
LOCATION:
SUMMARY:Klimasprechstunde Havelhöhe Teil 2: Notfallmedizin für das Klima der Erde. Gründe für Hoffnung und Hilfen zum transformativen Handeln. Auf "Mehr erfahren" kommen Sie direkt zum Vortrag.
DESCRIPTION:Viele Millionen Tote auf der Welt durch die Klimaveränderungen bereits dieses Jahr und 1/4 aller Covid-Toten gehen auf die Luftverschmutzung zurück aber verhalten wir uns dementsprechend? Was können wir als kleine Bürger unseres Landes tun?, https://bit.ly/3wkvxQH
END:VEVENT
END:VCALENDAR