BEGIN:VCALENDAR
VERSION:2.0
METHOD:PUBLISH
PRODID:https://campus.havelhoehe.de
BEGIN:VEVENT
UID:177677185534395@https://campus.havelhoehe.de
DTSTART:20210622T170000Z
DURATION:PT1H
ORGANIZER:CN=Campus Havelhöhe
LOCATION:
SUMMARY:Anthroposophische Therapieansätze der Durchfallserkrankung und Reisediarrhoe Die Veranstaltung ist bei der LÄK und GAÄD akkreditiert.
DESCRIPTION:Prof. Dr. Harald Matthes erläutert im Webinar „Anthroposophische Therapieansätze der Durchfallserkrankung und Reisediarrhoe“ die unterschiedlichen Ursachen der Reisediarrhoe und geht auf die verschiedenen anthroposophisch-therapeutische Behandlungsmöglichkeiten ein., https://bit.ly/3vKRadh
END:VEVENT
END:VCALENDAR